BEGIN:VCALENDAR
VERSION:2.0
PRODID:-//AudioTheme 1.8.0
BEGIN:VEVENT
UID:http://northshorebrass.org.nz/?post_type=audiotheme_gig&#038;p=696
URL:http://northshorebrass.org.nz/shows/2016-christmas-proms-concert/
DTSTART;TZID=GMT:20161126T013000
SUMMARY:Christmas Proms Concert 2016
DESCRIPTION:Christmas Proms Concert
LOCATION:Windsor Park Baptist Church\, 550 East Coast Road  Mairangi Bay\, Mairangi Bay\, Auckland\, New Zealand\, 0630
END:VEVENT
END:VCALENDAR