BEGIN:VCALENDAR
VERSION:2.0
PRODID:-//AudioTheme 1.8.0
BEGIN:VEVENT
UID:http://northshorebrass.org.nz/?post_type=audiotheme_gig&#038;p=899
URL:http://northshorebrass.org.nz/shows/97th-agm/
DTSTART;TZID=GMT:20201121T043000
SUMMARY:97th AGM
DESCRIPTION:97th AGM
LOCATION:Band Rooms\, 13 Taharoto Rd\, Takapuna\, Auckland\, New Zealand\, 0622
END:VEVENT
END:VCALENDAR