BEGIN:VCALENDAR
VERSION:2.0
PRODID:-//AudioTheme 1.8.0
BEGIN:VEVENT
UID:http://northshorebrass.org.nz/?post_type=audiotheme_gig&#038;p=939
URL:http://northshorebrass.org.nz/shows/98th-annual-general-meeting-of-north-shore-brass-inc/
DTSTART;TZID=GMT:20210821T053000
SUMMARY:98th Annual General Meeting of North Shore Brass Inc
DESCRIPTION:98th Annual General Meeting of North Shore Brass Inc
LOCATION:Band Rooms\, 13 Taharoto Rd\, Takapuna\, Auckland\, New Zealand\, 0622
END:VEVENT
END:VCALENDAR