BEGIN:VCALENDAR
VERSION:2.0
PRODID:-//AudioTheme 1.8.0
BEGIN:VEVENT
UID:http://northshorebrass.org.nz/?post_type=audiotheme_gig&#038;p=629
URL:http://northshorebrass.org.nz/shows/aba-band-contest-2/
DTSTART;VALUE=DATE:20160918
SUMMARY:ABA Band Contest
DESCRIPTION:Auckland Brass Association Contest. <a href=" http://northshorebrass.org.nz/shows/aba-band-contest-2/"> Read More</a>
END:VEVENT
END:VCALENDAR