BEGIN:VCALENDAR
VERSION:2.0
PRODID:-//AudioTheme 1.8.0
BEGIN:VEVENT
UID:http://northshorebrass.org.nz/?post_type=audiotheme_gig&#038;p=728
URL:http://northshorebrass.org.nz/shows/aba-band-contest-3/
DTSTART;VALUE=DATE:20170924
SUMMARY:ABA Band Contest
DESCRIPTION:ABA Band Contest
LOCATION:Hawkins Centre\, 13 Ray Small Dr\, Papakura\, \, New Zealand\, 2110
END:VEVENT
END:VCALENDAR