BEGIN:VCALENDAR
VERSION:2.0
PRODID:-//AudioTheme 1.8.0
BEGIN:VEVENT
UID:http://northshorebrass.org.nz/?post_type=audiotheme_gig&#038;p=727
URL:http://northshorebrass.org.nz/shows/aba-solo-and-party-contest/
DTSTART;TZID=GMT:20170610T210000
SUMMARY:ABA Solo and Party Contest
DESCRIPTION:ABA Solo and Party Contest
LOCATION:Glenfield College\, 60 Kaipatiki Rd\, Glenfield\, Auckland\, New Zealand\, 0629
END:VEVENT
END:VCALENDAR