BEGIN:VCALENDAR
VERSION:2.0
PRODID:-//AudioTheme 1.8.0
BEGIN:VEVENT
UID:http://northshorebrass.org.nz/?post_type=audiotheme_gig&#038;p=864
URL:http://northshorebrass.org.nz/shows/academy-band-lake-house-arts-open-day/
DTSTART;TZID=GMT:20190907T023000
SUMMARY:Academy Band @ Lake House Arts Open Day
LOCATION:Lake House Arts\, 37 Fred Thomas Dr\, Takapuna  \, Auckland\, \, New Zealand\, 0622
END:VEVENT
END:VCALENDAR