BEGIN:VCALENDAR
VERSION:2.0
PRODID:-//AudioTheme 1.8.0
BEGIN:VEVENT
UID:http://northshorebrass.org.nz/?post_type=audiotheme_gig&#038;p=849
URL:http://northshorebrass.org.nz/shows/agm-and-quiz-night/
DTSTART;TZID=GMT:20190824T053000
SUMMARY:AGM and QUIZ Night
DESCRIPTION:AGM and QUIZ Night  
LOCATION:Band Rooms\, 13 Taharoto Rd\, Takapuna\, Auckland\, New Zealand\, 0622
END:VEVENT
END:VCALENDAR