BEGIN:VCALENDAR
VERSION:2.0
PRODID:-//AudioTheme 1.8.0
BEGIN:VEVENT
UID:http://northshorebrass.org.nz/?post_type=audiotheme_gig&#038;p=773
URL:http://northshorebrass.org.nz/shows/anzac-day-services/
DTSTART;TZID=GMT:20180424T220000
SUMMARY:ANZAC day services
DESCRIPTION:ANZAC day services
LOCATION:Takapuna and Glenfield\, Takapuna and Glenfield\, 
END:VEVENT
END:VCALENDAR