BEGIN:VCALENDAR
VERSION:2.0
PRODID:-//AudioTheme 1.8.0
BEGIN:VEVENT
UID:http://northshorebrass.org.nz/?post_type=audiotheme_gig&#038;p=724
URL:http://northshorebrass.org.nz/shows/anzac-parade-and-service/
DTSTART;VALUE=DATE:20170425
SUMMARY:ANZAC Parade and Service
DESCRIPTION:ANZAC Parade and Service
LOCATION:The Strand Takapuna\, The Strand Takapuna\, Takapuna\, Auckland\, New Zealand\, 0622
END:VEVENT
END:VCALENDAR