BEGIN:VCALENDAR
VERSION:2.0
PRODID:-//AudioTheme 1.8.0
BEGIN:VEVENT
UID:http://northshorebrass.org.nz/?post_type=audiotheme_gig&#038;p=821
URL:http://northshorebrass.org.nz/shows/brass-in-class-workshop-day-with-bbanz-director-of-education-david-bremner/
DTSTART;TZID=GMT:20181218T193000
SUMMARY:Brass In Class Workshop Day with BBANZ Director of Education David Bremner
DESCRIPTION:Brass In Class Workshop Day with BBANZ Director of Education David Bremner
LOCATION:Band Rooms\, 13 Taharoto Rd\, Takapuna\, Auckland\, New Zealand\, 0622
END:VEVENT
END:VCALENDAR