BEGIN:VCALENDAR
VERSION:2.0
PRODID:-//AudioTheme 1.8.0
BEGIN:VEVENT
UID:http://northshorebrass.org.nz/?post_type=audiotheme_gig&#038;p=801
URL:http://northshorebrass.org.nz/shows/brass-in-class-workshop/
DTSTART;TZID=GMT:20180708T203000
SUMMARY:Brass In Class Workshop
DESCRIPTION:Brass In Class Workshop
LOCATION:Band Rooms\, 13 Taharoto Rd\, Takapuna\, Auckland\, New Zealand\, 0622
END:VEVENT
END:VCALENDAR