BEGIN:VCALENDAR
VERSION:2.0
PRODID:-//AudioTheme 1.8.0
BEGIN:VEVENT
UID:http://northshorebrass.org.nz/?post_type=audiotheme_gig&#038;p=838
URL:http://northshorebrass.org.nz/shows/castor-bay/
DTSTART;TZID=GMT:20190324T010000
SUMMARY:Castor Bay Beach Concert
DESCRIPTION:Our annual beach concert in association with the Castor Bay Ratepayers Association 
LOCATION:Castor Bay\, 5/7 The Esplanade\, Castor Bay\, Auckland 0620\, Northshore\, \, New Zealand
END:VEVENT
END:VCALENDAR