BEGIN:VCALENDAR
VERSION:2.0
PRODID:-//AudioTheme 1.8.0
BEGIN:VEVENT
UID:http://northshorebrass.org.nz/?post_type=audiotheme_gig&#038;p=741
URL:http://northshorebrass.org.nz/shows/champion-brass/
DTSTART;TZID=GMT:20170730T023000
SUMMARY:Champion Brass
DESCRIPTION:A weekend of celebrating some of New Zealand's most talented brass musicians.  
LOCATION:Brian Gerrard Theatre\, Birkenhead College\, 140 Birkdale Road\, \, Birkenhead\, Auckland\, New Zealand
END:VEVENT
END:VCALENDAR