BEGIN:VCALENDAR
VERSION:2.0
PRODID:-//AudioTheme 1.8.0
BEGIN:VEVENT
UID:http://northshorebrass.org.nz/?post_type=audiotheme_gig&#038;p=808
URL:http://northshorebrass.org.nz/shows/christmas-cabaret-2/
DTSTART;TZID=GMT:20181202T013000
SUMMARY:Christmas Cabaret
DESCRIPTION:Christmas Cabaret
LOCATION:The Spencer on Byron Hotel Ballroom\, 9-17 Byron Ave\, \, Takapuna\, Auckland\, New Zealand\, 0622
END:VEVENT
END:VCALENDAR