BEGIN:VCALENDAR
VERSION:2.0
PRODID:-//AudioTheme 1.8.0
BEGIN:VEVENT
UID:http://northshorebrass.org.nz/?post_type=audiotheme_gig&#038;p=867
URL:http://northshorebrass.org.nz/shows/christmas-caberet/
DTSTART;TZID=GMT:20191208T013000
SUMMARY:Christmas Caberet
DESCRIPTION:North Shore Brass with guests and North Shore Brass Academy Band
LOCATION:The Spencer on Byron Hotel Ballroom\, 9-17 Byron Ave\, \, Takapuna\, Auckland\, New Zealand\, 0622
END:VEVENT
END:VCALENDAR