BEGIN:VCALENDAR
VERSION:2.0
PRODID:-//AudioTheme 1.8.0
BEGIN:VEVENT
UID:http://northshorebrass.org.nz/?post_type=audiotheme_gig&#038;p=935
URL:http://northshorebrass.org.nz/shows/contest-prelude-2/
DTSTART;TZID=GMT:20210711T020000
SUMMARY:Contest Prelude
DESCRIPTION:North Shore Brass and Auckland City Brass present their 2021 contest music  SUNDAY 11 JULY 2.00 pm  Ticket price: $15/20  Students free  Door sales only
LOCATION:Birkdale Intermediate School\, 200 Birkdale Road\, Auckland\, \, New Zealand
END:VEVENT
END:VCALENDAR