BEGIN:VCALENDAR
VERSION:2.0
PRODID:-//AudioTheme 1.8.0
BEGIN:VEVENT
UID:http://northshorebrass.org.nz/?post_type=audiotheme_gig&#038;p=800
URL:http://northshorebrass.org.nz/shows/contest-prelude/
DTSTART;TZID=GMT:20180708T023000
SUMMARY:Contest Prelude
DESCRIPTION:Contest Prelude
LOCATION:Owen Goodwin Theatre\, 200 Birkdale Road\, Auckland\, \, new zealand\, 0626
END:VEVENT
END:VCALENDAR