BEGIN:VCALENDAR
VERSION:2.0
PRODID:-//AudioTheme 1.8.0
BEGIN:VEVENT
UID:http://northshorebrass.org.nz/?post_type=audiotheme_gig&#038;p=869
URL:http://northshorebrass.org.nz/shows/end-of-term-concert-and-supper-2/
DTSTART;TZID=GMT:20191211T053000
SUMMARY:End of Term Concert and Supper
LOCATION:Band Rooms\, 13 Taharoto Rd\, Takapuna\, Auckland\, New Zealand\, 0622
END:VEVENT
END:VCALENDAR