BEGIN:VCALENDAR
VERSION:2.0
PRODID:-//AudioTheme 1.8.0
BEGIN:VEVENT
UID:http://northshorebrass.org.nz/?post_type=audiotheme_gig&#038;p=770
URL:http://northshorebrass.org.nz/shows/end-of-year-concert/
DTSTART;TZID=GMT:20171213T053000
SUMMARY:End of Year Concert
DESCRIPTION:FREE End of Year Concert – all three bands – 6.30 pm with supper from 7.30 pm.
LOCATION:Auckland
END:VEVENT
END:VCALENDAR