BEGIN:VCALENDAR
VERSION:2.0
PRODID:-//AudioTheme 1.8.0
BEGIN:VEVENT
UID:http://northshorebrass.org.nz/?post_type=audiotheme_gig&#038;p=902
URL:http://northshorebrass.org.nz/shows/gig-902/
DTSTART;TZID=GMT:20201205T060000
SUMMARY:Christmas @ Holy Trinity
DESCRIPTION:Christmas @ Holy Trinity
LOCATION:The Cathedral of Holy Trinity\, 446 Parnell Road\, Parnell\, Auckland\, New zealand\, 1052
END:VEVENT
END:VCALENDAR