BEGIN:VCALENDAR
VERSION:2.0
PRODID:-//AudioTheme 1.8.0
BEGIN:VEVENT
UID:http://northshorebrass.org.nz/?post_type=audiotheme_gig&#038;p=959
URL:http://northshorebrass.org.nz/shows/gig-959/
DTSTART;TZID=GMT:20220507T073000
SUMMARY:The North Harbour Lounge
DESCRIPTION:Music for our Mothers
LOCATION:The North Harbour Lounge\, Level 1\, North Harbour Stadium\, Albany\, Auckland\, 
END:VEVENT
END:VCALENDAR