BEGIN:VCALENDAR
VERSION:2.0
PRODID:-//AudioTheme 1.8.0
BEGIN:VEVENT
UID:http://northshorebrass.org.nz/?post_type=audiotheme_gig&#038;p=725
URL:http://northshorebrass.org.nz/shows/mothers-day-concert-2/
DTSTART;TZID=GMT:20170514T030000
SUMMARY:Mothers Day Concert
DESCRIPTION:Mothers Day Concert - Featuring Arthur Close - Baritone.
LOCATION:The Spencer on Byron Hotel Ballroom\, 9-17 Byron Ave\, \, Takapuna\, Auckland\, New Zealand\, 0622
END:VEVENT
END:VCALENDAR