BEGIN:VCALENDAR
VERSION:2.0
PRODID:-//AudioTheme 1.8.0
BEGIN:VEVENT
UID:http://northshorebrass.org.nz/?post_type=audiotheme_gig&#038;p=628
URL:http://northshorebrass.org.nz/shows/mothers-day-concert/
DTSTART;TZID=GMT:20160508T023000
SUMMARY:To Mum, with love
DESCRIPTION:To Mum\, with love  - the perfect gift from North Shore Brass and Rebecca Nelson.   <a href=" http://northshorebrass.org.nz/shows/mothers-day-concert/"> Read More</a>
LOCATION:Birkenhead College Theatre\, Birkenhead College Theatre\,  140 Birkdale Road  Birkenhead\, Birkenhead\, Auckland\, New Zealand
END:VEVENT
END:VCALENDAR