BEGIN:VCALENDAR
VERSION:2.0
PRODID:-//AudioTheme 1.8.0
BEGIN:VEVENT
UID:http://northshorebrass.org.nz/?post_type=audiotheme_gig&#038;p=925
URL:http://northshorebrass.org.nz/shows/music-for-our-mothers/
DTSTART;TZID=GMT:20210508T070000
SUMMARY:Music for our Mothers
DESCRIPTION:Music for our Mothers  Featuring North Shore Brass and North Shore Brass Academy Band    Tables of up to eight $160  Seniors $Students $25   Adults $30    Bookings recommended via www.eventfinda.co.nz or owen@mortgagesupply.co.nz or 021 281 0405    
LOCATION:The Spencer on Byron Hotel Ballroom\, 9-17 Byron Ave\, \, Takapuna\, Auckland\, New Zealand\, 0622
END:VEVENT
END:VCALENDAR