BEGIN:VCALENDAR
VERSION:2.0
PRODID:-//AudioTheme 1.8.0
BEGIN:VEVENT
UID:http://northshorebrass.org.nz/?post_type=audiotheme_gig&#038;p=488
URL:http://northshorebrass.org.nz/shows/pre-contest-concert/
DTSTART;TZID=GMT:20160710T023000
SUMMARY:Contest Prelude
DESCRIPTION:<a href=" http://northshorebrass.org.nz/shows/pre-contest-concert/">Contest Prelude. Read More  </a>
LOCATION:Birkenhead College Theatre\, Birkenhead College Theatre\,  140 Birkdale Road  Birkenhead\, Birkenhead\, Auckland\, New Zealand
END:VEVENT
END:VCALENDAR