BEGIN:VCALENDAR
VERSION:2.0
PRODID:-//AudioTheme 1.8.0
BEGIN:VEVENT
UID:http://northshorebrass.org.nz/?post_type=audiotheme_gig&#038;p=745
URL:http://northshorebrass.org.nz/shows/seminar-with-david-bremner/
DTSTART;TZID=GMT:20171113T060000
SUMMARY:Seminar with David Bremner
DESCRIPTION:Seminar with David Bremner   
LOCATION:Band Rooms\, 13 Taharoto Rd\, Takapuna\, Auckland\, New Zealand\, 0622
END:VEVENT
END:VCALENDAR