BEGIN:VCALENDAR
VERSION:2.0
PRODID:-//AudioTheme 1.8.0
BEGIN:VEVENT
UID:http://northshorebrass.org.nz/?post_type=audiotheme_gig&#038;p=840
URL:http://northshorebrass.org.nz/shows/songs-for-your-mother-2/
DTSTART;TZID=GMT:20190512T023000
SUMMARY:Songs for your Mother
DESCRIPTION:Songs for your Mother
LOCATION:The Spencer on Byron Hotel Ballroom\, 9-17 Byron Ave\, \, Takapuna\, Auckland\, New Zealand\, 0622
END:VEVENT
END:VCALENDAR