BEGIN:VCALENDAR
VERSION:2.0
PRODID:-//AudioTheme 1.8.0
BEGIN:VEVENT
UID:http://northshorebrass.org.nz/?post_type=audiotheme_gig&#038;p=865
URL:http://northshorebrass.org.nz/shows/spring-concert-academy-and-takapuna-youth-brass/
DTSTART;TZID=GMT:20190908T020000
SUMMARY:Spring Concert - Academy and Takapuna Youth Brass
LOCATION:Hurstmere Road\, 1 Hurstmere Road\, Auckland\, 
END:VEVENT
END:VCALENDAR