BEGIN:VCALENDAR
VERSION:2.0
PRODID:-//AudioTheme 1.8.0
BEGIN:VEVENT
UID:http://northshorebrass.org.nz/?post_type=audiotheme_gig&#038;p=947
URL:http://northshorebrass.org.nz/shows/stars-of-brass/
DTSTART;TZID=GMT:20220327T000000
SUMMARY:Stars of Brass Concert
DESCRIPTION:Stars of Brass
LOCATION:St Peter's Anglican Church\, 11 Killarney Street\, Takapuna\, Auckland\, \, New Zealand\, 0622
END:VEVENT
END:VCALENDAR